BEGIN:VCALENDAR
VERSION:2.0
PRODID:-//INFBPW CRAWFORDSVILLE - ECPv6.15.11//NONSGML v1.0//EN
CALSCALE:GREGORIAN
METHOD:PUBLISH
X-ORIGINAL-URL:https://infbpw-crawfordsville.org
X-WR-CALDESC:Events for INFBPW CRAWFORDSVILLE
REFRESH-INTERVAL;VALUE=DURATION:PT1H
X-Robots-Tag:noindex
X-PUBLISHED-TTL:PT1H
BEGIN:VTIMEZONE
TZID:UTC
BEGIN:STANDARD
TZOFFSETFROM:+0000
TZOFFSETTO:+0000
TZNAME:UTC
DTSTART:20180101T000000
END:STANDARD
END:VTIMEZONE
BEGIN:VEVENT
DTSTART;TZID=UTC:20191007T080000
DTEND;TZID=UTC:20191007T150000
DTSTAMP:20260426T010437
CREATED:20190906T010432Z
LAST-MODIFIED:20190906T010432Z
UID:265-1570435200-1570460400@infbpw-crawfordsville.org
SUMMARY:Reality Store®
DESCRIPTION:All Montgomery County Indiana 8th Graders participate\nAt the Boys & Girls Club students come through in two hour shifts starting at 8:30 – 10:30\, 10:30 – 12:30 and the last school at 12:30 – 2:30\nThe League of Women Voters will also be there to assist with a voting process
URL:https://infbpw-crawfordsville.org/event/reality-store/
END:VEVENT
BEGIN:VEVENT
DTSTART;TZID=UTC:20191006T170000
DTEND;TZID=UTC:20191006T190000
DTSTAMP:20260426T010437
CREATED:20190906T012922Z
LAST-MODIFIED:20190906T012922Z
UID:267-1570381200-1570388400@infbpw-crawfordsville.org
SUMMARY:Reality Store® Set-up
DESCRIPTION:Set up Sunday Oct 6th – 5 o’clock
URL:https://infbpw-crawfordsville.org/event/reality-store-set-up/
LOCATION:Boys & Girls Club\, 1001 Whitlock Ave\, Crawfordsville\, IN\, 47933\, United States
END:VEVENT
BEGIN:VEVENT
DTSTART;TZID=UTC:20191001T173000
DTEND;TZID=UTC:20191001T193000
DTSTAMP:20260426T010437
CREATED:20190920T190206Z
LAST-MODIFIED:20190920T234744Z
UID:311-1569951000-1569958200@infbpw-crawfordsville.org
SUMMARY:October Meeting
DESCRIPTION:Time: 5:30 – 6pm Networking | 6pm Meal with program and meeting to follow\nMeal $10.00: Roasted Turkey Breast\, Green Beans\, Mashed Potatoes\, Strawberry Pretzel Salad\, and Brownies\nWWMD: TBA\nProgram: Robotics Team \nIf you would like to attend – please contact us for reservations \nPlease enable JavaScript in your browser to complete this form.Name *FirstLastEmail *Comment or Message *CommentSubmit
URL:https://infbpw-crawfordsville.org/event/october-meeting/
LOCATION:First Christian Church\, 211 S Walnut\, Crawfordsville\, IN\, 47933\, United States
END:VEVENT
BEGIN:VEVENT
DTSTART;TZID=UTC:20190903T213000
DTEND;TZID=UTC:20190903T233000
DTSTAMP:20260426T010437
CREATED:20190903T193138Z
LAST-MODIFIED:20190920T235101Z
UID:257-1567546200-1567553400@infbpw-crawfordsville.org
SUMMARY:Monthly Meeting
DESCRIPTION:
URL:https://infbpw-crawfordsville.org/event/monthly-meeting/
LOCATION:First Christian Church\, 211 S Walnut\, Crawfordsville\, IN\, 47933\, United States
END:VEVENT
END:VCALENDAR