BEGIN:VCALENDAR
VERSION:2.0
PRODID:-//INFBPW CRAWFORDSVILLE - ECPv6.15.11//NONSGML v1.0//EN
CALSCALE:GREGORIAN
METHOD:PUBLISH
X-ORIGINAL-URL:https://infbpw-crawfordsville.org
X-WR-CALDESC:Events for INFBPW CRAWFORDSVILLE
REFRESH-INTERVAL;VALUE=DURATION:PT1H
X-Robots-Tag:noindex
X-PUBLISHED-TTL:PT1H
BEGIN:VTIMEZONE
TZID:UTC
BEGIN:STANDARD
TZOFFSETFROM:+0000
TZOFFSETTO:+0000
TZNAME:UTC
DTSTART:20180101T000000
END:STANDARD
END:VTIMEZONE
BEGIN:VEVENT
DTSTART;TZID=UTC:20200901T180000
DTEND;TZID=UTC:20200901T193000
DTSTAMP:20260425T175416
CREATED:20200822T010028Z
LAST-MODIFIED:20200822T010028Z
UID:551-1598983200-1598988600@infbpw-crawfordsville.org
SUMMARY:September 2020 Meeting
DESCRIPTION:1st Tuesday of September is the 1st! \nTentative meeting place is at the 1st Baptist Church in Crawfordsville. \nB.Y.O.B. = Bring Your Own Bag lunch
URL:https://infbpw-crawfordsville.org/event/september-2020-meeting/
END:VEVENT
BEGIN:VEVENT
DTSTART;TZID=UTC:20200519T173000
DTEND;TZID=UTC:20200519T183000
DTSTAMP:20260425T175416
CREATED:20191205T004149Z
LAST-MODIFIED:20191205T004149Z
UID:443-1589909400-1589913000@infbpw-crawfordsville.org
SUMMARY:Board Meeting
DESCRIPTION:Venue to be announced at May monthly meeting
URL:https://infbpw-crawfordsville.org/event/board-meeting-4/
END:VEVENT
BEGIN:VEVENT
DTSTART;TZID=UTC:20200505T173000
DTEND;TZID=UTC:20200505T193000
DTSTAMP:20260425T175416
CREATED:20191205T005512Z
LAST-MODIFIED:20191205T005738Z
UID:452-1588699800-1588707000@infbpw-crawfordsville.org
SUMMARY:May Meeting
DESCRIPTION:Time: 5:30 – 6pm Networking | 6pm Meal with program and meeting to follow\nMeal $10.00: Healthy choice menu\, relish tray with dip\, fresh fruit tray\nWWMD: TBA\nProgram:  \nIf you would like to attend – please contact us for reservations\nor any member in our [ Directory ] \nPlease enable JavaScript in your browser to complete this form.Name *FirstLastEmail *Comment or Message *WebsiteSubmit
URL:https://infbpw-crawfordsville.org/event/april-meeting/
LOCATION:Youth Service Bureau\, 808 West PIke St\, Crawfordsville\, Indiana\, 47933
END:VEVENT
BEGIN:VEVENT
DTSTART;TZID=UTC:20200421T173000
DTEND;TZID=UTC:20200421T183000
DTSTAMP:20260425T175416
CREATED:20191205T004027Z
LAST-MODIFIED:20191205T004027Z
UID:441-1587490200-1587493800@infbpw-crawfordsville.org
SUMMARY:Board Meeting
DESCRIPTION:Venue to be announced at April monthly meeting
URL:https://infbpw-crawfordsville.org/event/board-meeting-3/
END:VEVENT
BEGIN:VEVENT
DTSTART;TZID=UTC:20200407T080000
DTEND;TZID=UTC:20200407T170000
DTSTAMP:20260425T175416
CREATED:20191205T005925Z
LAST-MODIFIED:20191205T005925Z
UID:456-1586246400-1586278800@infbpw-crawfordsville.org
SUMMARY:April Meeting
DESCRIPTION:Time: 5:30 – 6pm Networking | 6pm Meal with program and meeting to follow\nMeal $10.00: Baked Steak w/gravy\, Green beans\, Mashed Potatoes\, Lettuce salad\, brownies\nWWMD: TBA\nProgram:  \nIf you would like to attend – please contact us for reservations\nor any member in our [ Directory ] \nPlease enable JavaScript in your browser to complete this form.Name *FirstLastEmail *Comment or Message *CommentSubmit
URL:https://infbpw-crawfordsville.org/event/april-meeting-2/
LOCATION:Youth Service Bureau\, 808 West PIke St\, Crawfordsville\, Indiana\, 47933
END:VEVENT
BEGIN:VEVENT
DTSTART;TZID=UTC:20200403T190000
DTEND;TZID=UTC:20200403T210000
DTSTAMP:20260425T175416
CREATED:20200303T201812Z
LAST-MODIFIED:20200303T201812Z
UID:500-1585940400-1585947600@infbpw-crawfordsville.org
SUMMARY:Fashion Show
DESCRIPTION:This year proceeds will go toward improved access to mental health services. Once again\, we will feature students from our county schools as models\, musical entertainment\, preparation and service of our refreshments.
URL:https://infbpw-crawfordsville.org/event/fashion-show/
LOCATION:Fusion 54\, 101 W Main St\, 3rd Floor\, Crawfordsville\, 47933\, United States
END:VEVENT
BEGIN:VEVENT
DTSTART;TZID=UTC:20200318T180000
DTEND;TZID=UTC:20200318T210000
DTSTAMP:20260425T175416
CREATED:20200311T152750Z
LAST-MODIFIED:20200311T152827Z
UID:510-1584554400-1584565200@infbpw-crawfordsville.org
SUMMARY:Montgomery County Indiana Candidates Forum
DESCRIPTION:6:00 pm to 7:00 pm : Meet & Greet the Candidates\nRefreshments provided by LWV & INFBPW-Crawfordsville \n7:00 pm Candidates speak \nFor a full itinerary click HERE 
URL:https://infbpw-crawfordsville.org/event/candidates-forum-2/
LOCATION:CHS\, One Athenian Drive\, Crawfordsville\, IN\, 47933\, United States
END:VEVENT
BEGIN:VEVENT
DTSTART;VALUE=DATE:20200315
DTEND;VALUE=DATE:20200316
DTSTAMP:20260425T175416
CREATED:20200311T161856Z
LAST-MODIFIED:20200311T190230Z
UID:518-1584230400-1584316799@infbpw-crawfordsville.org
SUMMARY:Deadline for INFBPW Scholarship
DESCRIPTION:Working women\, women in transition\,  future teachers and more…there is a scholarship for you \nFind your scholarship application: \nHERE
URL:https://infbpw-crawfordsville.org/event/deadline-for-infbpw-scholarship/
LOCATION:Indiana Women’s Educaiton Foundation
END:VEVENT
BEGIN:VEVENT
DTSTART;TZID=UTC:20200314T130000
DTEND;TZID=UTC:20200314T150000
DTSTAMP:20260425T175416
CREATED:20200303T184950Z
LAST-MODIFIED:20200303T200624Z
UID:487-1584190800-1584198000@infbpw-crawfordsville.org
SUMMARY:A Ladies Affair
DESCRIPTION:At the Ladies Affair\, we raise funds for WRC by letting you choose gently used OR new purses of your liking and let you pay however much you’d like to donate. There is also a silent auction for some very special items.\nThe ladies always have a blast going through and finding awesome new-to-them jewelry and purses.
URL:https://infbpw-crawfordsville.org/event/a-ladies-affair/
LOCATION:Stone Creek Lodge\, 2865 IN-47\, Crawfordsville\, IN\, 47933\, United States
END:VEVENT
BEGIN:VEVENT
DTSTART;VALUE=DATE:20200308
DTEND;VALUE=DATE:20200309
DTSTAMP:20260425T175416
CREATED:20200303T183931Z
LAST-MODIFIED:20200303T183931Z
UID:492-1583625600-1583625600@infbpw-crawfordsville.org
SUMMARY:International Women's Day
DESCRIPTION:Read about here
URL:https://infbpw-crawfordsville.org/event/international-womens-day/
END:VEVENT
BEGIN:VEVENT
DTSTART;TZID=UTC:20200307T110000
DTEND;TZID=UTC:20200307T140000
DTSTAMP:20260425T175416
CREATED:20200303T182540Z
LAST-MODIFIED:20200303T183430Z
UID:478-1583578800-1583589600@infbpw-crawfordsville.org
SUMMARY:District 3 Meeting
DESCRIPTION:Keynote speaker\, State Representative Wendy McNamara (District 76) \n\n\n\nA $15.00 Pasta Buffet will include:  \n                   Hot Pasta Trio\, 2 sauces\,  \n                   Italian Salad\, Garlic Bread \n                   Chef’s Choice Dessert \n                   Tea\, Coffee or Water\n\n\n\nLocals please bring two Door Prizes with at least $5.00 value \nPlease note\, event location is in Central Time Zone\nRSVP: Bambie Deig
URL:https://infbpw-crawfordsville.org/event/district-3-meeting/
LOCATION:Red Wagon Restaurant\, 6950 Frontage Rd\, POSEYVILLE\, IN\, 47633\, United States
END:VEVENT
BEGIN:VEVENT
DTSTART;TZID=UTC:20200303T173000
DTEND;TZID=UTC:20200303T193000
DTSTAMP:20260425T175416
CREATED:20191205T005319Z
LAST-MODIFIED:20191205T005319Z
UID:450-1583256600-1583263800@infbpw-crawfordsville.org
SUMMARY:March Meeting
DESCRIPTION:Time: 5:30 – 6pm Networking | 6pm Meal with program and meeting to follow\nMeal $10.00: Baked ham\, potato cheese casserole\, corn\, cherry pineapple fluff\, cookies\nWWMD: TBA\nProgram:  \nIf you would like to attend – please contact us for reservations\nor any member in our [ Directory ] \nPlease enable JavaScript in your browser to complete this form.Name *FirstLastEmail *Comment or Message *WebsiteSubmit
URL:https://infbpw-crawfordsville.org/event/march-meeting/
LOCATION:Youth Service Bureau\, 808 West PIke St\, Crawfordsville\, Indiana\, 47933
END:VEVENT
BEGIN:VEVENT
DTSTART;TZID=UTC:20200204T173000
DTEND;TZID=UTC:20200204T193000
DTSTAMP:20260425T175416
CREATED:20191205T005029Z
LAST-MODIFIED:20191205T005129Z
UID:447-1580837400-1580844600@infbpw-crawfordsville.org
SUMMARY:February Meeting
DESCRIPTION:Time: 5:30 – 6pm Networking | 6pm Meal with program and meeting to follow\nMeal $10.00: Meat loaf\, Green beans\, Au gratin Potatoes\, Lettuce salad\, pies\nWWMD: TBA\nProgram:  \nIf you would like to attend – please contact us for reservations\nor any member in our [ Directory ] \nPlease enable JavaScript in your browser to complete this form.Name *FirstLastEmail *Comment or Message *WebsiteSubmit
URL:https://infbpw-crawfordsville.org/event/february-meeting/
LOCATION:Youth Service Bureau\, 808 West PIke St\, Crawfordsville\, Indiana\, 47933
END:VEVENT
BEGIN:VEVENT
DTSTART;TZID=UTC:20200121T173000
DTEND;TZID=UTC:20200121T173000
DTSTAMP:20260425T175416
CREATED:20191205T003851Z
LAST-MODIFIED:20200122T013150Z
UID:438-1579627800-1579627800@infbpw-crawfordsville.org
SUMMARY:Board Meeting
DESCRIPTION:Women’s Resource Center
URL:https://infbpw-crawfordsville.org/event/board-meeting-2/
LOCATION:Women’s Resource Center\, 407 E Market Street\, Suite 106\, Crawfordsville\, IN\, 47933
END:VEVENT
BEGIN:VEVENT
DTSTART;TZID=UTC:20200107T173000
DTEND;TZID=UTC:20200107T193000
DTSTAMP:20260425T175416
CREATED:20191205T003113Z
LAST-MODIFIED:20191205T003113Z
UID:436-1578418200-1578425400@infbpw-crawfordsville.org
SUMMARY:January Meeting
DESCRIPTION:Time: 5:30 – 6pm Networking | 6pm Meal with program and meeting to follow\nMeal $10.00: Roast Beef\, California Blend\, Broccolli Cheese Soup\, Strawberry Pretzel Salad\, Cookies\nWWMD: TBA\nProgram: Woman of Achievement \nIf you would like to attend – please contact us for reservations \nPlease enable JavaScript in your browser to complete this form.Name *FirstLastEmail *Comment or Message *NameSubmit
URL:https://infbpw-crawfordsville.org/event/january-meeting/
LOCATION:Youth Service Bureau\, 808 West PIke St\, Crawfordsville\, Indiana\, 47933
END:VEVENT
BEGIN:VEVENT
DTSTART;TZID=UTC:20191203T173000
DTEND;TZID=UTC:20191203T193000
DTSTAMP:20260425T175416
CREATED:20190920T194609Z
LAST-MODIFIED:20190920T235815Z
UID:320-1575394200-1575401400@infbpw-crawfordsville.org
SUMMARY:December Meeting
DESCRIPTION:Time: 5:30 – 6pm Networking | 6pm Meal with program and meeting to follow\nMeal: Pitch-in Dinner\nProgram: Ornament exchange\nWWMD: TBA \nIf you would like to attend – please contact us for reservations \nPlease enable JavaScript in your browser to complete this form.Name *FirstLastEmail *Comment or Message *CommentSubmit
URL:https://infbpw-crawfordsville.org/event/december-meeting/
END:VEVENT
BEGIN:VEVENT
DTSTART;TZID=UTC:20191119T180000
DTEND;TZID=UTC:20191119T210000
DTSTAMP:20260425T175416
CREATED:20191015T141434Z
LAST-MODIFIED:20191015T141434Z
UID:402-1574186400-1574197200@infbpw-crawfordsville.org
SUMMARY:Ladies Night Out - Supporting Relay for Life
DESCRIPTION:Sponsored by INFBPW-Crawfordsville supporting Relay for Life \nVendors to shop\, door prizes to win\, silent auction items as well.\nThis is a ticketed event. $10 per ticket (you get 2 glasses of wine per ticket) \n 
URL:https://infbpw-crawfordsville.org/event/ladies-night-out-supporting-relay-for-life/
LOCATION:Crawfordsville Masonic Temple\, 221 S Washington St\, Crawfordsville\, IN\, 47933\, United States
END:VEVENT
BEGIN:VEVENT
DTSTART;TZID=UTC:20191115T080000
DTEND;TZID=UTC:20191115T170000
DTSTAMP:20260425T175416
CREATED:20191031T220001Z
LAST-MODIFIED:20191031T220001Z
UID:421-1573804800-1573837200@infbpw-crawfordsville.org
SUMMARY:Deadline for Post Secondary Ed. Award
DESCRIPTION:Post-secondary Educational Award must be post marked by today.\nDown load the application on page.
URL:https://infbpw-crawfordsville.org/event/deadline-for-post-secondary-ed-award/
END:VEVENT
BEGIN:VEVENT
DTSTART;TZID=UTC:20191105T173000
DTEND;TZID=UTC:20191105T193000
DTSTAMP:20260425T175416
CREATED:20190920T192733Z
LAST-MODIFIED:20191015T151522Z
UID:313-1572975000-1572982200@infbpw-crawfordsville.org
SUMMARY:November Meeting
DESCRIPTION:Time: 5:30 – 6pm Networking | 6pm Meal with program and meeting to follow\nMeal $10.00: Lasagna\, Green Beans\, Cottage Cheese\, Five Cup Salad\, Pies\nProgram: Our annual “Fun”draiser auction. Members bring baked goods\, white elephant items\, or hand crafted items to bid on.\nWWMD: Bring items or monetary contribution to go towards putting together items to donate for a Thanksgiving dinner for a family TBD \nIf you would like to attend – please contact us for reservations \nPlease enable JavaScript in your browser to complete this form.Name *FirstLastEmail *Comment or Message *CommentSubmit
URL:https://infbpw-crawfordsville.org/event/november-meeting/
LOCATION:First Christian Church\, 211 S Walnut\, Crawfordsville\, IN\, 47933\, United States
END:VEVENT
BEGIN:VEVENT
DTSTART;VALUE=DATE:20191031
DTEND;VALUE=DATE:20191101
DTSTAMP:20260425T175416
CREATED:20190921T015906Z
LAST-MODIFIED:20190921T015906Z
UID:345-1572480000-1572566399@infbpw-crawfordsville.org
SUMMARY:Halloween
DESCRIPTION:
URL:https://infbpw-crawfordsville.org/event/halloween/
END:VEVENT
BEGIN:VEVENT
DTSTART;VALUE=DATE:20191026
DTEND;VALUE=DATE:20191027
DTSTAMP:20260425T175416
CREATED:20190921T015008Z
LAST-MODIFIED:20190921T015008Z
UID:343-1572048000-1572134399@infbpw-crawfordsville.org
SUMMARY:Fall Conference - Day 2
DESCRIPTION:8:30 – 11 am – Registration & Credentials\nWorkshops\, keynote speakers\, banquet and auction.
URL:https://infbpw-crawfordsville.org/event/fall-conference-day-2/
END:VEVENT
BEGIN:VEVENT
DTSTART;TZID=UTC:20191025T150000
DTEND;TZID=UTC:20191025T230000
DTSTAMP:20260425T175416
CREATED:20190921T012223Z
LAST-MODIFIED:20190921T012424Z
UID:339-1572015600-1572044400@infbpw-crawfordsville.org
SUMMARY:Fall Conference - Day 1
DESCRIPTION:Friday evening – \n3 pm – Registration\n4 pm – Girl Scout Workshop\n6 pm – Foundation Supper\n7:30 pm – Business Meeting\n9 pm – Foundation Dessert
URL:https://infbpw-crawfordsville.org/event/fall-conference-day-1/
END:VEVENT
BEGIN:VEVENT
DTSTART;TZID=UTC:20191022T173000
DTEND;TZID=UTC:20191022T193000
DTSTAMP:20260425T175416
CREATED:20191005T222254Z
LAST-MODIFIED:20191014T172037Z
UID:385-1571765400-1571772600@infbpw-crawfordsville.org
SUMMARY:Executive Board Meeting
DESCRIPTION:Board meeting for INFBPW-Crawfordsville \nDate has been changed due to the Candidates Forum date change
URL:https://infbpw-crawfordsville.org/event/board-meeting/
LOCATION:Youth Service Bureau\, 808 West PIke St\, Crawfordsville\, Indiana\, 47933
END:VEVENT
BEGIN:VEVENT
DTSTART;TZID=UTC:20191015T170000
DTEND;TZID=UTC:20191015T173000
DTSTAMP:20260425T175416
CREATED:20190921T004601Z
LAST-MODIFIED:20191005T222601Z
UID:334-1571158800-1571160600@infbpw-crawfordsville.org
SUMMARY:Candidates Forum
DESCRIPTION:Please Note – Date Change\nThe forum is sponsored by the League of Women Voters of Montgomery County\, the Crawfordsville/Montgomery County Chamber of Commerce and the Indiana Federation of Business and Professional Women of Crawfordsville (INFBPW Crawfordsville) \nSet up at 5:30\nDebates begin at 6pm
URL:https://infbpw-crawfordsville.org/event/candidates-forum/
LOCATION:CHS\, One Athenian Drive\, Crawfordsville\, IN\, 47933\, United States
END:VEVENT
BEGIN:VEVENT
DTSTART;VALUE=DATE:20191010
DTEND;VALUE=DATE:20191011
DTSTAMP:20260425T175416
CREATED:20190921T002216Z
LAST-MODIFIED:20190921T002457Z
UID:330-1570665600-1570751999@infbpw-crawfordsville.org
SUMMARY:Fall Conference Registration Deadline
DESCRIPTION:Postmarked by October 10th\, 2019 \nMail registration form to:\nJudy Zell\, PSP\n8510 Quail Hollow Rd\nIndianapolis IN 46260
URL:https://infbpw-crawfordsville.org/event/fall-conference-registration-deadline/
END:VEVENT
BEGIN:VEVENT
DTSTART;TZID=UTC:20191007T080000
DTEND;TZID=UTC:20191007T150000
DTSTAMP:20260425T175416
CREATED:20190906T010432Z
LAST-MODIFIED:20190906T010432Z
UID:265-1570435200-1570460400@infbpw-crawfordsville.org
SUMMARY:Reality Store®
DESCRIPTION:All Montgomery County Indiana 8th Graders participate\nAt the Boys & Girls Club students come through in two hour shifts starting at 8:30 – 10:30\, 10:30 – 12:30 and the last school at 12:30 – 2:30\nThe League of Women Voters will also be there to assist with a voting process
URL:https://infbpw-crawfordsville.org/event/reality-store/
END:VEVENT
BEGIN:VEVENT
DTSTART;TZID=UTC:20191006T170000
DTEND;TZID=UTC:20191006T190000
DTSTAMP:20260425T175416
CREATED:20190906T012922Z
LAST-MODIFIED:20190906T012922Z
UID:267-1570381200-1570388400@infbpw-crawfordsville.org
SUMMARY:Reality Store® Set-up
DESCRIPTION:Set up Sunday Oct 6th – 5 o’clock
URL:https://infbpw-crawfordsville.org/event/reality-store-set-up/
LOCATION:Boys & Girls Club\, 1001 Whitlock Ave\, Crawfordsville\, IN\, 47933\, United States
END:VEVENT
BEGIN:VEVENT
DTSTART;TZID=UTC:20191001T173000
DTEND;TZID=UTC:20191001T193000
DTSTAMP:20260425T175416
CREATED:20190920T190206Z
LAST-MODIFIED:20190920T234744Z
UID:311-1569951000-1569958200@infbpw-crawfordsville.org
SUMMARY:October Meeting
DESCRIPTION:Time: 5:30 – 6pm Networking | 6pm Meal with program and meeting to follow\nMeal $10.00: Roasted Turkey Breast\, Green Beans\, Mashed Potatoes\, Strawberry Pretzel Salad\, and Brownies\nWWMD: TBA\nProgram: Robotics Team \nIf you would like to attend – please contact us for reservations \nPlease enable JavaScript in your browser to complete this form.Name *FirstLastEmail *Comment or Message *NameSubmit
URL:https://infbpw-crawfordsville.org/event/october-meeting/
LOCATION:First Christian Church\, 211 S Walnut\, Crawfordsville\, IN\, 47933\, United States
END:VEVENT
BEGIN:VEVENT
DTSTART;TZID=UTC:20190903T213000
DTEND;TZID=UTC:20190903T233000
DTSTAMP:20260425T175416
CREATED:20190903T193138Z
LAST-MODIFIED:20190920T235101Z
UID:257-1567546200-1567553400@infbpw-crawfordsville.org
SUMMARY:Monthly Meeting
DESCRIPTION:
URL:https://infbpw-crawfordsville.org/event/monthly-meeting/
LOCATION:First Christian Church\, 211 S Walnut\, Crawfordsville\, IN\, 47933\, United States
END:VEVENT
END:VCALENDAR